BEGIN:VCALENDAR
VERSION:2.0
PRODID:-//wp-events-plugin.com//7.2.3.1//EN
TZID:Europe/London
X-WR-TIMEZONE:Europe/London
BEGIN:VEVENT
UID:217@wiltshireroadar.co.uk
DTSTART;TZID=Europe/London;VALUE=DATE:20260401
DTEND;TZID=Europe/London;VALUE=DATE:20260402
DTSTAMP:20250415T154946Z
URL:https://www.wiltshireroadar.co.uk/events/test-event-1/
SUMMARY:Test Event 1
DESCRIPTION:
CATEGORIES:Bike Rideout
END:VEVENT
BEGIN:VTIMEZONE
TZID:Europe/London
X-LIC-LOCATION:Europe/London
BEGIN:DAYLIGHT
DTSTART:20260329T020000
TZOFFSETFROM:+0000
TZOFFSETTO:+0100
TZNAME:BST
END:DAYLIGHT
END:VTIMEZONE
END:VCALENDAR