BEGIN:VCALENDAR
VERSION:2.0
PRODID:-//wp-events-plugin.com//7.2.3.1//EN
TZID:Europe/London
X-WR-TIMEZONE:Europe/London
BEGIN:VEVENT
UID:264@wiltshireroadar.co.uk
DTSTART;TZID=Europe/London:20270322T193000
DTEND;TZID=Europe/London:20270322T213000
DTSTAMP:20260410T213405Z
URL:https://www.wiltshireroadar.co.uk/events/members-meeting-2027-03-22/
SUMMARY:Members Meeting
DESCRIPTION:
ATTACH;FMTTYPE=image/jpeg:https://www.wiltshireroadar.co.uk/wp-content/upl
 oads/2026/04/NursteedCC.jpg
CATEGORIES:Members Meeting
LOCATION:https://w3w.co/cake.bends.pelt
END:VEVENT
BEGIN:VTIMEZONE
TZID:Europe/London
X-LIC-LOCATION:Europe/London
BEGIN:STANDARD
DTSTART:20261025T010000
TZOFFSETFROM:+0100
TZOFFSETTO:+0000
TZNAME:GMT
END:STANDARD
END:VTIMEZONE
END:VCALENDAR